BEGIN:VCALENDAR
VERSION:2.0
PRODID:-//ALAS | Always Learn and Survive - ECPv6.0.6.2//NONSGML v1.0//EN
CALSCALE:GREGORIAN
METHOD:PUBLISH
X-WR-CALNAME:ALAS | Always Learn and Survive
X-ORIGINAL-URL:https://alaspb.org
X-WR-CALDESC:Events for ALAS | Always Learn and Survive
REFRESH-INTERVAL;VALUE=DURATION:PT1H
X-Robots-Tag:noindex
X-PUBLISHED-TTL:PT1H
BEGIN:VTIMEZONE
TZID:America/Chicago
BEGIN:DAYLIGHT
TZOFFSETFROM:-0600
TZOFFSETTO:-0500
TZNAME:CDT
DTSTART:20220313T080000
END:DAYLIGHT
BEGIN:STANDARD
TZOFFSETFROM:-0500
TZOFFSETTO:-0600
TZNAME:CST
DTSTART:20221106T070000
END:STANDARD
END:VTIMEZONE
BEGIN:VEVENT
DTSTART;TZID=America/Chicago:20221225T080000
DTEND;TZID=America/Chicago:20221225T170000
DTSTAMP:20260425T171723
CREATED:20211115T165648Z
LAST-MODIFIED:20221223T051140Z
UID:147-1671955200-1671987600@alaspb.org
SUMMARY:Test Event
DESCRIPTION:
URL:https://alaspb.org/event/test-event/
CATEGORIES:Entrepreneurship
ATTACH;FMTTYPE=image/jpeg:https://alaspb.org/wp-content/uploads/2021/09/alas-03.jpg
END:VEVENT
END:VCALENDAR